BEGIN:VCALENDAR
VERSION:2.0
PRODID:-//Scottish Association of Motor Sports Clubs - ECPv6.0.13//NONSGML v1.0//EN
CALSCALE:GREGORIAN
METHOD:PUBLISH
X-WR-CALNAME:Scottish Association of Motor Sports Clubs
X-ORIGINAL-URL:https://motorsport.scot
X-WR-CALDESC:Events for Scottish Association of Motor Sports Clubs
REFRESH-INTERVAL;VALUE=DURATION:PT1H
X-Robots-Tag:noindex
X-PUBLISHED-TTL:PT1H
BEGIN:VTIMEZONE
TZID:Europe/London
BEGIN:DAYLIGHT
TZOFFSETFROM:+0000
TZOFFSETTO:+0100
TZNAME:BST
DTSTART:20260329T010000
END:DAYLIGHT
BEGIN:STANDARD
TZOFFSETFROM:+0100
TZOFFSETTO:+0000
TZNAME:GMT
DTSTART:20261025T010000
END:STANDARD
END:VTIMEZONE
BEGIN:VEVENT
DTSTART;VALUE=DATE:20260502
DTEND;VALUE=DATE:20260504
DTSTAMP:20260422T113541
CREATED:20260102T110313Z
LAST-MODIFIED:20260102T120007Z
UID:10000809-1777680000-1777852799@motorsport.scot
SUMMARY:SSCC Sprint
DESCRIPTION:Share this:
URL:https://motorsport.scot/event/sscc-sprint-2/
LOCATION:Kames Circuit\, 3 Furnace Road\, Muirkirk\, KA18 3QQ\, United Kingdom
CATEGORIES:Sprint
GEO:55.51495;-4.06761
X-APPLE-STRUCTURED-LOCATION;VALUE=URI;X-ADDRESS=Kames Circuit 3 Furnace Road Muirkirk KA18 3QQ United Kingdom;X-APPLE-RADIUS=500;X-TITLE=3 Furnace Road:geo:-4.06761,55.51495
END:VEVENT
BEGIN:VEVENT
DTSTART;VALUE=DATE:20260523
DTEND;VALUE=DATE:20260524
DTSTAMP:20260422T113541
CREATED:20260112T173911Z
LAST-MODIFIED:20260112T174122Z
UID:10000929-1779494400-1779580799@motorsport.scot
SUMMARY:Autosolo
DESCRIPTION:Share this:
URL:https://motorsport.scot/event/autosolo-17/
CATEGORIES:Autosolo
END:VEVENT
BEGIN:VEVENT
DTSTART;VALUE=DATE:20260711
DTEND;VALUE=DATE:20260712
DTSTAMP:20260422T113541
CREATED:20260102T105811Z
LAST-MODIFIED:20260112T174209Z
UID:10000834-1783728000-1783814399@motorsport.scot
SUMMARY:Autosolo
DESCRIPTION:Share this:
URL:https://motorsport.scot/event/autosolo-12/
LOCATION:Forrestburn Hillclimb\, Shotts\, North Lanarkshire\, United Kingdom
CATEGORIES:Autosolo
GEO:55.86404;-3.8212
END:VEVENT
BEGIN:VEVENT
DTSTART;VALUE=DATE:20260815
DTEND;VALUE=DATE:20260816
DTSTAMP:20260422T113541
CREATED:20260112T173803Z
LAST-MODIFIED:20260112T173803Z
UID:10000936-1786752000-1786838399@motorsport.scot
SUMMARY:Road Rally
DESCRIPTION:Share this:
URL:https://motorsport.scot/event/road-rally-2/
CATEGORIES:Navigational Rally
END:VEVENT
BEGIN:VEVENT
DTSTART;VALUE=DATE:20260919
DTEND;VALUE=DATE:20260920
DTSTAMP:20260422T113541
CREATED:20260112T173934Z
LAST-MODIFIED:20260112T173934Z
UID:10000939-1789776000-1789862399@motorsport.scot
SUMMARY:Autosolo
DESCRIPTION:Share this:
URL:https://motorsport.scot/event/autosolo-18/
CATEGORIES:Autosolo
END:VEVENT
BEGIN:VEVENT
DTSTART;VALUE=DATE:20261011
DTEND;VALUE=DATE:20261012
DTSTAMP:20260422T113541
CREATED:20260112T173832Z
LAST-MODIFIED:20260112T173832Z
UID:10000943-1791676800-1791763199@motorsport.scot
SUMMARY:Solway Classic & Targa
DESCRIPTION:Share this:
URL:https://motorsport.scot/event/solway-classic-targa-2/
CATEGORIES:Targa Rally
END:VEVENT
BEGIN:VEVENT
DTSTART;VALUE=DATE:20261107
DTEND;VALUE=DATE:20261108
DTSTAMP:20260422T113541
CREATED:20260112T173559Z
LAST-MODIFIED:20260112T173559Z
UID:10000947-1794009600-1794095999@motorsport.scot
SUMMARY:Autosolo
DESCRIPTION:Share this:
URL:https://motorsport.scot/event/autosolo-15/
CATEGORIES:Autosolo
END:VEVENT
END:VCALENDAR