BEGIN:VCALENDAR
VERSION:2.0
PRODID:-//Scottish Association of Motor Sports Clubs - ECPv6.0.13//NONSGML v1.0//EN
CALSCALE:GREGORIAN
METHOD:PUBLISH
X-ORIGINAL-URL:https://motorsport.scot
X-WR-CALDESC:Events for Scottish Association of Motor Sports Clubs
REFRESH-INTERVAL;VALUE=DURATION:PT1H
X-Robots-Tag:noindex
X-PUBLISHED-TTL:PT1H
BEGIN:VTIMEZONE
TZID:Europe/London
BEGIN:DAYLIGHT
TZOFFSETFROM:+0000
TZOFFSETTO:+0100
TZNAME:BST
DTSTART:20230326T010000
END:DAYLIGHT
BEGIN:STANDARD
TZOFFSETFROM:+0100
TZOFFSETTO:+0000
TZNAME:GMT
DTSTART:20231029T010000
END:STANDARD
END:VTIMEZONE
BEGIN:VEVENT
DTSTART;VALUE=DATE:20230212
DTEND;VALUE=DATE:20230213
DTSTAMP:20260422T183757
CREATED:20230420T203538Z
LAST-MODIFIED:20230420T213412Z
UID:10000227-1676160000-1676246399@motorsport.scot
SUMMARY:Tyro Trial
DESCRIPTION:Share this:
URL:https://motorsport.scot/event/tyro-trial-6/
CATEGORIES:Off-Road Trial
END:VEVENT
BEGIN:VEVENT
DTSTART;VALUE=DATE:20230205
DTEND;VALUE=DATE:20230206
DTSTAMP:20260422T183757
CREATED:20230420T203523Z
LAST-MODIFIED:20230420T213421Z
UID:10000225-1675555200-1675641599@motorsport.scot
SUMMARY:RTV Trial
DESCRIPTION:Share this:
URL:https://motorsport.scot/event/rtv-trial-8/
CATEGORIES:Off-Road Trial
END:VEVENT
BEGIN:VEVENT
DTSTART;VALUE=DATE:20230115
DTEND;VALUE=DATE:20230116
DTSTAMP:20260422T183757
CREATED:20230420T203523Z
LAST-MODIFIED:20230420T213350Z
UID:10000222-1673740800-1673827199@motorsport.scot
SUMMARY:CCV Trial
DESCRIPTION:Share this:
URL:https://motorsport.scot/event/ccv-trial/
CATEGORIES:Off-Road Trial
END:VEVENT
BEGIN:VEVENT
DTSTART;VALUE=DATE:20230108
DTEND;VALUE=DATE:20230109
DTSTAMP:20260422T183757
CREATED:20230420T203522Z
LAST-MODIFIED:20230420T213201Z
UID:10000219-1673136000-1673222399@motorsport.scot
SUMMARY:Who Dares Wins
DESCRIPTION:Share this:
URL:https://motorsport.scot/event/who-dares-wins/
CATEGORIES:Off-Road Trial
END:VEVENT
END:VCALENDAR