BEGIN:VCALENDAR
VERSION:2.0
PRODID:-//Scottish Association of Motor Sports Clubs - ECPv6.0.13//NONSGML v1.0//EN
CALSCALE:GREGORIAN
METHOD:PUBLISH
X-WR-CALNAME:Scottish Association of Motor Sports Clubs
X-ORIGINAL-URL:https://motorsport.scot
X-WR-CALDESC:Events for Scottish Association of Motor Sports Clubs
REFRESH-INTERVAL;VALUE=DURATION:PT1H
X-Robots-Tag:noindex
X-PUBLISHED-TTL:PT1H
BEGIN:VTIMEZONE
TZID:Europe/London
BEGIN:DAYLIGHT
TZOFFSETFROM:+0000
TZOFFSETTO:+0100
TZNAME:BST
DTSTART:20260329T010000
END:DAYLIGHT
BEGIN:STANDARD
TZOFFSETFROM:+0100
TZOFFSETTO:+0000
TZNAME:GMT
DTSTART:20261025T010000
END:STANDARD
END:VTIMEZONE
BEGIN:VEVENT
DTSTART;VALUE=DATE:20260523
DTEND;VALUE=DATE:20260524
DTSTAMP:20260421T093608
CREATED:20260112T173911Z
LAST-MODIFIED:20260112T174122Z
UID:10000929-1779494400-1779580799@motorsport.scot
SUMMARY:Autosolo
DESCRIPTION:Share this:
URL:https://motorsport.scot/event/autosolo-17/
CATEGORIES:Autosolo
END:VEVENT
BEGIN:VEVENT
DTSTART;VALUE=DATE:20260613
DTEND;VALUE=DATE:20260615
DTSTAMP:20260421T093608
CREATED:20260102T110133Z
LAST-MODIFIED:20260102T120007Z
UID:10000826-1781308800-1781481599@motorsport.scot
SUMMARY:Forrestburn Hillclimb
DESCRIPTION:Share this:
URL:https://motorsport.scot/event/forrestburn-hillclimb-2-2/
LOCATION:Forrestburn Hillclimb\, Shotts\, North Lanarkshire\, United Kingdom
CATEGORIES:Hill Climb
GEO:55.86404;-3.8212
END:VEVENT
BEGIN:VEVENT
DTSTART;VALUE=DATE:20260711
DTEND;VALUE=DATE:20260712
DTSTAMP:20260421T093608
CREATED:20260102T105811Z
LAST-MODIFIED:20260112T174209Z
UID:10000834-1783728000-1783814399@motorsport.scot
SUMMARY:Autosolo
DESCRIPTION:Share this:
URL:https://motorsport.scot/event/autosolo-12/
LOCATION:Forrestburn Hillclimb\, Shotts\, North Lanarkshire\, United Kingdom
CATEGORIES:Autosolo
GEO:55.86404;-3.8212
END:VEVENT
BEGIN:VEVENT
DTSTART;VALUE=DATE:20260829
DTEND;VALUE=DATE:20260831
DTSTAMP:20260421T093608
CREATED:20260102T105223Z
LAST-MODIFIED:20260102T115939Z
UID:10000861-1787961600-1788134399@motorsport.scot
SUMMARY:Forrestburn Hillclimb
DESCRIPTION:Share this:
URL:https://motorsport.scot/event/forrestburn-hillclimb-3/
LOCATION:Forrestburn Hillclimb\, Shotts\, North Lanarkshire\, United Kingdom
CATEGORIES:Hill Climb
GEO:55.86404;-3.8212
END:VEVENT
BEGIN:VEVENT
DTSTART;VALUE=DATE:20261018
DTEND;VALUE=DATE:20261019
DTSTAMP:20260421T093608
CREATED:20260102T104434Z
LAST-MODIFIED:20260102T115920Z
UID:10000886-1792281600-1792367999@motorsport.scot
SUMMARY:PCT
DESCRIPTION:Share this:
URL:https://motorsport.scot/event/pct-12/
LOCATION:Forrestburn Hillclimb\, Shotts\, North Lanarkshire\, United Kingdom
CATEGORIES:PCT
GEO:55.86404;-3.8212
END:VEVENT
BEGIN:VEVENT
DTSTART;VALUE=DATE:20261115
DTEND;VALUE=DATE:20261116
DTSTAMP:20260421T093608
CREATED:20260102T103935Z
LAST-MODIFIED:20260102T115920Z
UID:10000895-1794700800-1794787199@motorsport.scot
SUMMARY:PCT
DESCRIPTION:Share this:
URL:https://motorsport.scot/event/pct-11/
LOCATION:Forrestburn Hillclimb\, Shotts\, North Lanarkshire\, United Kingdom
CATEGORIES:PCT
GEO:55.86404;-3.8212
END:VEVENT
END:VCALENDAR