BEGIN:VCALENDAR
VERSION:2.0
PRODID:-//Scottish Association of Motor Sports Clubs - ECPv6.0.13//NONSGML v1.0//EN
CALSCALE:GREGORIAN
METHOD:PUBLISH
X-WR-CALNAME:Scottish Association of Motor Sports Clubs
X-ORIGINAL-URL:https://motorsport.scot
X-WR-CALDESC:Events for Scottish Association of Motor Sports Clubs
REFRESH-INTERVAL;VALUE=DURATION:PT1H
X-Robots-Tag:noindex
X-PUBLISHED-TTL:PT1H
BEGIN:VTIMEZONE
TZID:Europe/London
BEGIN:DAYLIGHT
TZOFFSETFROM:+0000
TZOFFSETTO:+0100
TZNAME:BST
DTSTART:20240331T010000
END:DAYLIGHT
BEGIN:STANDARD
TZOFFSETFROM:+0100
TZOFFSETTO:+0000
TZNAME:GMT
DTSTART:20241027T010000
END:STANDARD
BEGIN:DAYLIGHT
TZOFFSETFROM:+0000
TZOFFSETTO:+0100
TZNAME:BST
DTSTART:20250330T010000
END:DAYLIGHT
BEGIN:STANDARD
TZOFFSETFROM:+0100
TZOFFSETTO:+0000
TZNAME:GMT
DTSTART:20251026T010000
END:STANDARD
END:VTIMEZONE
BEGIN:VEVENT
DTSTART;VALUE=DATE:20250525
DTEND;VALUE=DATE:20250526
DTSTAMP:20260422T131852
CREATED:20250106T124801Z
LAST-MODIFIED:20250107T103900Z
UID:10000584-1748131200-1748217599@motorsport.scot
SUMMARY:Jim Clark Reivers Rally
DESCRIPTION:Share this:
URL:https://motorsport.scot/event/jim-clark-reivers-rally/
CATEGORIES:Stage Rally
END:VEVENT
BEGIN:VEVENT
DTSTART;VALUE=DATE:20250523
DTEND;VALUE=DATE:20250525
DTSTAMP:20260422T131852
CREATED:20250106T124757Z
LAST-MODIFIED:20250107T103900Z
UID:10000582-1747958400-1748131199@motorsport.scot
SUMMARY:Borders Competitions Jim Clark Rally
DESCRIPTION:Share this:
URL:https://motorsport.scot/event/borders-competitions-jim-clark-rally/
CATEGORIES:Stage Rally
END:VEVENT
BEGIN:VEVENT
DTSTART;VALUE=DATE:20240526
DTEND;VALUE=DATE:20240527
DTSTAMP:20260422T131852
CREATED:20231123T201706Z
LAST-MODIFIED:20231123T201706Z
UID:10000336-1716681600-1716767999@motorsport.scot
SUMMARY:Beatson's Building Supplies Jim Clark Reivers
DESCRIPTION:Share this:
URL:https://motorsport.scot/event/beatsons-building-supplies-jim-clark-reivers/
LOCATION:Duns\, United Kingdom
CATEGORIES:Stage Rally
END:VEVENT
BEGIN:VEVENT
DTSTART;VALUE=DATE:20240524
DTEND;VALUE=DATE:20240526
DTSTAMP:20260422T131852
CREATED:20231123T201751Z
LAST-MODIFIED:20231123T201751Z
UID:10000335-1716508800-1716681599@motorsport.scot
SUMMARY:Beatson's Building Supplies Jim Clark Rally
DESCRIPTION:Share this:
URL:https://motorsport.scot/event/beatsons-building-supplies-jim-clark-rally/
LOCATION:Duns\, United Kingdom
CATEGORIES:Stage Rally
END:VEVENT
END:VCALENDAR