BEGIN:VCALENDAR
VERSION:2.0
PRODID:-//Scottish Association of Motor Sports Clubs - ECPv6.0.13//NONSGML v1.0//EN
CALSCALE:GREGORIAN
METHOD:PUBLISH
X-ORIGINAL-URL:https://motorsport.scot
X-WR-CALDESC:Events for Scottish Association of Motor Sports Clubs
REFRESH-INTERVAL;VALUE=DURATION:PT1H
X-Robots-Tag:noindex
X-PUBLISHED-TTL:PT1H
BEGIN:VTIMEZONE
TZID:Europe/London
BEGIN:DAYLIGHT
TZOFFSETFROM:+0000
TZOFFSETTO:+0100
TZNAME:BST
DTSTART:20260329T010000
END:DAYLIGHT
BEGIN:STANDARD
TZOFFSETFROM:+0100
TZOFFSETTO:+0000
TZNAME:GMT
DTSTART:20261025T010000
END:STANDARD
END:VTIMEZONE
BEGIN:VEVENT
DTSTART;VALUE=DATE:20260425
DTEND;VALUE=DATE:20260426
DTSTAMP:20260422T113728
CREATED:20260102T084716Z
LAST-MODIFIED:20260102T084716Z
UID:10000805-1777075200-1777161599@motorsport.scot
SUMMARY:The McDonald & Munro Speyside Stages (Cancelled)
DESCRIPTION:Share this:
URL:https://motorsport.scot/event/the-mcdonald-munro-speyside-stages-2026/
LOCATION:Inverness\, Inverness\, United Kingdom
CATEGORIES:Stage Rally
ORGANIZER;CN="63%20Car%20Club":MAILTO:63carclubelgin@gmail.com
END:VEVENT
BEGIN:VEVENT
DTSTART;VALUE=DATE:20260524
DTEND;VALUE=DATE:20260525
DTSTAMP:20260422T113728
CREATED:20260102T094257Z
LAST-MODIFIED:20260102T094257Z
UID:10000818-1779580800-1779667199@motorsport.scot
SUMMARY:Jim Clark Reivers Rally
DESCRIPTION:Share this:
URL:https://motorsport.scot/event/jim-clark-reivers-rally-2026/
LOCATION:Duns\, United Kingdom
CATEGORIES:Stage Rally
END:VEVENT
BEGIN:VEVENT
DTSTART;VALUE=DATE:20260619
DTEND;VALUE=DATE:20260621
DTSTAMP:20260422T113728
CREATED:20260102T100825Z
LAST-MODIFIED:20260102T100825Z
UID:10000829-1781827200-1781999999@motorsport.scot
SUMMARY:Argyll Rally
DESCRIPTION:Share this:
URL:https://motorsport.scot/event/argyll-rally-2026/
LOCATION:Dunoon\, United Kingdom
CATEGORIES:Stage Rally
END:VEVENT
BEGIN:VEVENT
DTSTART;VALUE=DATE:20260718
DTEND;VALUE=DATE:20260719
DTSTAMP:20260422T113728
CREATED:20260102T105711Z
LAST-MODIFIED:20260102T115952Z
UID:10000839-1784332800-1784419199@motorsport.scot
SUMMARY:RSAC Scottish Rally
DESCRIPTION:Share this:
URL:https://motorsport.scot/event/rsac-scottish-rally-2026/
LOCATION:Dalbeattie\, United Kingdom
CATEGORIES:Stage Rally
END:VEVENT
BEGIN:VEVENT
DTSTART;VALUE=DATE:20260807
DTEND;VALUE=DATE:20260809
DTSTAMP:20260422T113728
CREATED:20260102T093832Z
LAST-MODIFIED:20260102T093832Z
UID:10000849-1786060800-1786233599@motorsport.scot
SUMMARY:Voly Grampian Forest Rally
DESCRIPTION:Share this:
URL:https://motorsport.scot/event/voly-grampian-forest-rally-2026/
LOCATION:Banchory\, United Kingdom
CATEGORIES:Stage Rally
END:VEVENT
BEGIN:VEVENT
DTSTART;VALUE=DATE:20260912
DTEND;VALUE=DATE:20260913
DTSTAMP:20260422T113728
CREATED:20260102T093703Z
LAST-MODIFIED:20260102T093703Z
UID:10000870-1789171200-1789257599@motorsport.scot
SUMMARY:Armstrong Galloway Hills Rally
DESCRIPTION:Share this:
URL:https://motorsport.scot/event/armstrong-galloway-hills-rally-2026/
LOCATION:Castle Douglas\, Castle Douglas\, DG7 1LU\, United Kingdom
CATEGORIES:Stage Rally
END:VEVENT
END:VCALENDAR