BEGIN:VCALENDAR
VERSION:2.0
PRODID:-//Scottish Association of Motor Sports Clubs - ECPv6.0.13//NONSGML v1.0//EN
CALSCALE:GREGORIAN
METHOD:PUBLISH
X-WR-CALNAME:Scottish Association of Motor Sports Clubs
X-ORIGINAL-URL:https://motorsport.scot
X-WR-CALDESC:Events for Scottish Association of Motor Sports Clubs
REFRESH-INTERVAL;VALUE=DURATION:PT1H
X-Robots-Tag:noindex
X-PUBLISHED-TTL:PT1H
BEGIN:VTIMEZONE
TZID:Europe/London
BEGIN:DAYLIGHT
TZOFFSETFROM:+0000
TZOFFSETTO:+0100
TZNAME:BST
DTSTART:20260329T010000
END:DAYLIGHT
BEGIN:STANDARD
TZOFFSETFROM:+0100
TZOFFSETTO:+0000
TZNAME:GMT
DTSTART:20261025T010000
END:STANDARD
END:VTIMEZONE
BEGIN:VEVENT
DTSTART;VALUE=DATE:20260412
DTEND;VALUE=DATE:20260413
DTSTAMP:20260423T094816
CREATED:20260102T110555Z
LAST-MODIFIED:20260102T120024Z
UID:10000798-1775952000-1776038399@motorsport.scot
SUMMARY:Tyro/Trial
DESCRIPTION:Share this:
URL:https://motorsport.scot/event/tyro-trial-21/
CATEGORIES:Trial,Tyro
END:VEVENT
BEGIN:VEVENT
DTSTART;VALUE=DATE:20260418
DTEND;VALUE=DATE:20260419
DTSTAMP:20260423T094816
CREATED:20260102T102153Z
LAST-MODIFIED:20260102T102153Z
UID:10000801-1776470400-1776556799@motorsport.scot
SUMMARY:CCV Trial & Tyro Trial
DESCRIPTION:Share this:
URL:https://motorsport.scot/event/ccv-trial-tyro-trial-3/
CATEGORIES:Trial,Tyro
END:VEVENT
BEGIN:VEVENT
DTSTART;VALUE=DATE:20260419
DTEND;VALUE=DATE:20260420
DTSTAMP:20260423T094816
CREATED:20260102T102226Z
LAST-MODIFIED:20260102T102226Z
UID:10000803-1776556800-1776643199@motorsport.scot
SUMMARY:RTV Trial & Speed Event
DESCRIPTION:Share this:
URL:https://motorsport.scot/event/rtv-trial-speed-event/
CATEGORIES:Trial
END:VEVENT
BEGIN:VEVENT
DTSTART;VALUE=DATE:20260530
DTEND;VALUE=DATE:20260531
DTSTAMP:20260423T094816
CREATED:20260102T102336Z
LAST-MODIFIED:20260102T102336Z
UID:10000820-1780099200-1780185599@motorsport.scot
SUMMARY:CCV Trial
DESCRIPTION:Share this:
URL:https://motorsport.scot/event/ccv-trial-11/
CATEGORIES:Trial
END:VEVENT
BEGIN:VEVENT
DTSTART;VALUE=DATE:20260531
DTEND;VALUE=DATE:20260601
DTSTAMP:20260423T094816
CREATED:20260102T102402Z
LAST-MODIFIED:20260102T102402Z
UID:10000821-1780185600-1780271999@motorsport.scot
SUMMARY:Tyro Trial
DESCRIPTION:Share this:
URL:https://motorsport.scot/event/tyro-trial-18/
CATEGORIES:Trial,Tyro
END:VEVENT
BEGIN:VEVENT
DTSTART;VALUE=DATE:20260614
DTEND;VALUE=DATE:20260615
DTSTAMP:20260423T094816
CREATED:20260102T105910Z
LAST-MODIFIED:20260102T120007Z
UID:10000827-1781395200-1781481599@motorsport.scot
SUMMARY:RTV Trial
DESCRIPTION:Share this:
URL:https://motorsport.scot/event/rtv-trial-23/
CATEGORIES:Trial
END:VEVENT
BEGIN:VEVENT
DTSTART;VALUE=DATE:20260614
DTEND;VALUE=DATE:20260615
DTSTAMP:20260423T094816
CREATED:20260102T105952Z
LAST-MODIFIED:20260102T120007Z
UID:10000828-1781395200-1781481599@motorsport.scot
SUMMARY:Tyro/Trial
DESCRIPTION:Share this:
URL:https://motorsport.scot/event/tyro-trial-20/
CATEGORIES:Trial,Tyro
END:VEVENT
BEGIN:VEVENT
DTSTART;VALUE=DATE:20260712
DTEND;VALUE=DATE:20260713
DTSTAMP:20260423T094816
CREATED:20260102T105729Z
LAST-MODIFIED:20260102T115952Z
UID:10000838-1783814400-1783900799@motorsport.scot
SUMMARY:Trial/Tyro
DESCRIPTION:Share this:
URL:https://motorsport.scot/event/trial-tyro-2/
CATEGORIES:Trial,Tyro
END:VEVENT
BEGIN:VEVENT
DTSTART;VALUE=DATE:20260726
DTEND;VALUE=DATE:20260727
DTSTAMP:20260423T094816
CREATED:20260102T105530Z
LAST-MODIFIED:20260102T115952Z
UID:10000843-1785024000-1785110399@motorsport.scot
SUMMARY:Classic RTV Trial
DESCRIPTION:Share this:
URL:https://motorsport.scot/event/classic-rtv-trial/
CATEGORIES:Trial
END:VEVENT
BEGIN:VEVENT
DTSTART;VALUE=DATE:20260802
DTEND;VALUE=DATE:20260803
DTSTAMP:20260423T094816
CREATED:20260102T105510Z
LAST-MODIFIED:20260102T115952Z
UID:10000848-1785628800-1785715199@motorsport.scot
SUMMARY:CCV Trial & Tyro Trial
DESCRIPTION:Share this:
URL:https://motorsport.scot/event/ccv-trial-tyro-trial-7/
CATEGORIES:Trial,Tyro
END:VEVENT
BEGIN:VEVENT
DTSTART;VALUE=DATE:20260809
DTEND;VALUE=DATE:20260811
DTSTAMP:20260423T094816
CREATED:20260102T105356Z
LAST-MODIFIED:20260102T115952Z
UID:10000852-1786233600-1786406399@motorsport.scot
SUMMARY:Treasure Hunt/Trial
DESCRIPTION:Share this:
URL:https://motorsport.scot/event/treasure-hunt-trial-2/
CATEGORIES:Trial,Treasure Hunt
END:VEVENT
BEGIN:VEVENT
DTSTART;VALUE=DATE:20260816
DTEND;VALUE=DATE:20260817
DTSTAMP:20260423T094816
CREATED:20260102T105322Z
LAST-MODIFIED:20260102T115952Z
UID:10000856-1786838400-1786924799@motorsport.scot
SUMMARY:RTV Trial
DESCRIPTION:Share this:
URL:https://motorsport.scot/event/rtv-trial-22/
CATEGORIES:Trial
END:VEVENT
BEGIN:VEVENT
DTSTART;VALUE=DATE:20260906
DTEND;VALUE=DATE:20260907
DTSTAMP:20260423T094816
CREATED:20260102T105119Z
LAST-MODIFIED:20260102T115939Z
UID:10000866-1788652800-1788739199@motorsport.scot
SUMMARY:CCV Trial & Tyro Trial
DESCRIPTION:Share this:
URL:https://motorsport.scot/event/ccv-trial-tyro-trial-6/
CATEGORIES:Trial,Tyro
END:VEVENT
BEGIN:VEVENT
DTSTART;VALUE=DATE:20260913
DTEND;VALUE=DATE:20260914
DTSTAMP:20260423T094816
CREATED:20260102T104656Z
LAST-MODIFIED:20260102T115939Z
UID:10000872-1789257600-1789343999@motorsport.scot
SUMMARY:Trial
DESCRIPTION:Share this:
URL:https://motorsport.scot/event/trial-3/
CATEGORIES:Trial
END:VEVENT
BEGIN:VEVENT
DTSTART;VALUE=DATE:20260920
DTEND;VALUE=DATE:20260921
DTSTAMP:20260423T094816
CREATED:20260102T104614Z
LAST-MODIFIED:20260102T115939Z
UID:10000875-1789862400-1789948799@motorsport.scot
SUMMARY:RTV Trial
DESCRIPTION:Share this:
URL:https://motorsport.scot/event/rtv-trial-21/
CATEGORIES:Trial
END:VEVENT
BEGIN:VEVENT
DTSTART;VALUE=DATE:20261004
DTEND;VALUE=DATE:20261005
DTSTAMP:20260423T094816
CREATED:20260102T104530Z
LAST-MODIFIED:20260102T115939Z
UID:10000881-1791072000-1791158399@motorsport.scot
SUMMARY:CCV Trial & Tyro Trial
DESCRIPTION:Share this:
URL:https://motorsport.scot/event/ccv-trial-tyro-trial-5/
CATEGORIES:Trial,Tyro
END:VEVENT
BEGIN:VEVENT
DTSTART;VALUE=DATE:20261018
DTEND;VALUE=DATE:20261019
DTSTAMP:20260423T094816
CREATED:20260102T104412Z
LAST-MODIFIED:20260102T115920Z
UID:10000888-1792281600-1792367999@motorsport.scot
SUMMARY:RTV Trial
DESCRIPTION:Share this:
URL:https://motorsport.scot/event/rtv-trial-20/
CATEGORIES:Trial
END:VEVENT
BEGIN:VEVENT
DTSTART;VALUE=DATE:20261101
DTEND;VALUE=DATE:20261102
DTSTAMP:20260423T094816
CREATED:20260102T104112Z
LAST-MODIFIED:20260102T115920Z
UID:10000891-1793491200-1793577599@motorsport.scot
SUMMARY:Tyro/Trial
DESCRIPTION:Share this:
URL:https://motorsport.scot/event/tyro-trial-19/
CATEGORIES:Trial,Tyro
END:VEVENT
BEGIN:VEVENT
DTSTART;VALUE=DATE:20261115
DTEND;VALUE=DATE:20261116
DTSTAMP:20260423T094816
CREATED:20260102T103914Z
LAST-MODIFIED:20260102T115920Z
UID:10000896-1794700800-1794787199@motorsport.scot
SUMMARY:CCV Trial & Tyro Trial
DESCRIPTION:Share this:
URL:https://motorsport.scot/event/ccv-trial-tyro-trial-4/
CATEGORIES:Trial,Tyro
END:VEVENT
END:VCALENDAR