BEGIN:VCALENDAR
VERSION:2.0
PRODID:-//Scottish Association of Motor Sports Clubs - ECPv6.0.13//NONSGML v1.0//EN
CALSCALE:GREGORIAN
METHOD:PUBLISH
X-WR-CALNAME:Scottish Association of Motor Sports Clubs
X-ORIGINAL-URL:https://motorsport.scot
X-WR-CALDESC:Events for Scottish Association of Motor Sports Clubs
REFRESH-INTERVAL;VALUE=DURATION:PT1H
X-Robots-Tag:noindex
X-PUBLISHED-TTL:PT1H
BEGIN:VTIMEZONE
TZID:Europe/London
BEGIN:DAYLIGHT
TZOFFSETFROM:+0000
TZOFFSETTO:+0100
TZNAME:BST
DTSTART:20260329T010000
END:DAYLIGHT
BEGIN:STANDARD
TZOFFSETFROM:+0100
TZOFFSETTO:+0000
TZNAME:GMT
DTSTART:20261025T010000
END:STANDARD
END:VTIMEZONE
BEGIN:VEVENT
DTSTART;TZID=Europe/London:20261017T093000
DTEND;TZID=Europe/London:20261017T123000
DTSTAMP:20260421T043940
CREATED:20260119T191529Z
LAST-MODIFIED:20260119T191900Z
UID:10000994-1792229400-1792240200@motorsport.scot
SUMMARY:Training: Fire Practical - GE01B
DESCRIPTION:This is a great opportunity for anyone looking to build or refresh practical skills. This hands-on session will help you gain the knowledge and confidence to deal with a fire in a motorsport setting and take effective action until rescue and medical teams arrive. \nThis is an official Motorsport UK training module\, recognised for grade maintenance and upgrade for all Motorsport UK licence holders. It is a mandatory module for every level on the Marshals’ Development Pathway. \nYou MUST have done the Fire Theory module (GE01A) before attending this course. \nPlease register at https://forms.gle/MJ5HTyYpWv13d4aTA \nShare this:
URL:https://motorsport.scot/event/training-fire-practical-ge01b-2026-3/
LOCATION:Knockhill Racing Circuit\, Dunfermline\, Fife\, KY12 9TF
CATEGORIES:Training
ATTACH;FMTTYPE=image/jpeg:https://motorsport.scot/wp-content/uploads/2023/11/fire.jpg
GEO:56.13146;-3.50895
END:VEVENT
BEGIN:VEVENT
DTSTART;TZID=Europe/London:20261017T133000
DTEND;TZID=Europe/London:20261017T163000
DTSTAMP:20260421T043940
CREATED:20260119T191556Z
LAST-MODIFIED:20260119T191922Z
UID:10000995-1792243800-1792254600@motorsport.scot
SUMMARY:Training: Fire Practical - GE01B
DESCRIPTION:This is a great opportunity for anyone looking to build or refresh practical skills. This hands-on session will help you gain the knowledge and confidence to deal with a fire in a motorsport setting and take effective action until rescue and medical teams arrive. \nThis is an official Motorsport UK training module\, recognised for grade maintenance and upgrade for all Motorsport UK licence holders. It is a mandatory module for every level on the Marshals’ Development Pathway. \nYou MUST have done the Fire Theory module (GE01A) before attending this course. \nPlease register at https://forms.gle/MJ5HTyYpWv13d4aTA \nShare this:
URL:https://motorsport.scot/event/training-fire-practical-ge01b-2026-4/
LOCATION:Knockhill Racing Circuit\, Dunfermline\, Fife\, KY12 9TF
CATEGORIES:Training
ATTACH;FMTTYPE=image/jpeg:https://motorsport.scot/wp-content/uploads/2023/11/fire.jpg
GEO:56.13146;-3.50895
END:VEVENT
END:VCALENDAR