BEGIN:VCALENDAR
VERSION:2.0
PRODID:-//Scottish Association of Motor Sports Clubs - ECPv6.0.13//NONSGML v1.0//EN
CALSCALE:GREGORIAN
METHOD:PUBLISH
X-WR-CALNAME:Scottish Association of Motor Sports Clubs
X-ORIGINAL-URL:https://motorsport.scot
X-WR-CALDESC:Events for Scottish Association of Motor Sports Clubs
REFRESH-INTERVAL;VALUE=DURATION:PT1H
X-Robots-Tag:noindex
X-PUBLISHED-TTL:PT1H
BEGIN:VTIMEZONE
TZID:Europe/London
BEGIN:DAYLIGHT
TZOFFSETFROM:+0000
TZOFFSETTO:+0100
TZNAME:BST
DTSTART:20260329T010000
END:DAYLIGHT
BEGIN:STANDARD
TZOFFSETFROM:+0100
TZOFFSETTO:+0000
TZNAME:GMT
DTSTART:20261025T010000
END:STANDARD
END:VTIMEZONE
BEGIN:VEVENT
DTSTART;TZID=Europe/London:20261008T130000
DTEND;TZID=Europe/London:20261008T160000
DTSTAMP:20260421T044038
CREATED:20260118T094721Z
LAST-MODIFIED:20260118T094721Z
UID:10000978-1791464400-1791475200@motorsport.scot
SUMMARY:Rally Marshals Training
DESCRIPTION:More information to follow.\nRegistration not yet available. \nShare this:
URL:https://motorsport.scot/event/rally-marshals-training-mull-2026/
CATEGORIES:Training
END:VEVENT
END:VCALENDAR