BEGIN:VCALENDAR
VERSION:2.0
PRODID:-//Scottish Association of Motor Sports Clubs - ECPv6.0.13//NONSGML v1.0//EN
CALSCALE:GREGORIAN
METHOD:PUBLISH
X-ORIGINAL-URL:https://motorsport.scot
X-WR-CALDESC:Events for Scottish Association of Motor Sports Clubs
REFRESH-INTERVAL;VALUE=DURATION:PT1H
X-Robots-Tag:noindex
X-PUBLISHED-TTL:PT1H
BEGIN:VTIMEZONE
TZID:Europe/London
BEGIN:DAYLIGHT
TZOFFSETFROM:+0000
TZOFFSETTO:+0100
TZNAME:BST
DTSTART:20260329T010000
END:DAYLIGHT
BEGIN:STANDARD
TZOFFSETFROM:+0100
TZOFFSETTO:+0000
TZNAME:GMT
DTSTART:20261025T010000
END:STANDARD
END:VTIMEZONE
BEGIN:VEVENT
DTSTART;TZID=Europe/London:20260729T190000
DTEND;TZID=Europe/London:20260729T203000
DTSTAMP:20260420T233646
CREATED:20260120T164136Z
LAST-MODIFIED:20260120T164136Z
UID:10000989-1785351600-1785357000@motorsport.scot
SUMMARY:Race: Advanced Flag
DESCRIPTION:This session builds on basic knowledge\, developing a deeper understanding of light signals and flags\, and their correct use in more complex racing situations. It covers advanced signalling techniques\, consistency and positioning\, and the importance of clear\, timely communication to warn competitors of hazards and support safe and fair racing. \nIt covers the content required in RC02C which is a Motorsport UK training module so counts towards grade maintenance or upgrade requirements for Motorsport UK licence holders on the Marshals’ Pathway.  \nOur webinars usually last for around 90 minutes and you’ll receive a certificate as evidence of attendance. \nRegister at https://us02web.zoom.us/webinar/register/WN_vB7jAk9vRJahB7TZOuyHlA \nShare this:
URL:https://motorsport.scot/event/race-advanced-flag-2/
LOCATION:Online (Zoom Webinar)
CATEGORIES:Training
END:VEVENT
END:VCALENDAR