BEGIN:VCALENDAR
VERSION:2.0
PRODID:-//Scottish Association of Motor Sports Clubs - ECPv6.0.13//NONSGML v1.0//EN
CALSCALE:GREGORIAN
METHOD:PUBLISH
X-WR-CALNAME:Scottish Association of Motor Sports Clubs
X-ORIGINAL-URL:https://motorsport.scot
X-WR-CALDESC:Events for Scottish Association of Motor Sports Clubs
REFRESH-INTERVAL;VALUE=DURATION:PT1H
X-Robots-Tag:noindex
X-PUBLISHED-TTL:PT1H
BEGIN:VTIMEZONE
TZID:Europe/London
BEGIN:DAYLIGHT
TZOFFSETFROM:+0000
TZOFFSETTO:+0100
TZNAME:BST
DTSTART:20260329T010000
END:DAYLIGHT
BEGIN:STANDARD
TZOFFSETFROM:+0100
TZOFFSETTO:+0000
TZNAME:GMT
DTSTART:20261025T010000
END:STANDARD
END:VTIMEZONE
BEGIN:VEVENT
DTSTART;TZID=Europe/London:20260505T190000
DTEND;TZID=Europe/London:20260505T203000
DTSTAMP:20260420T201938
CREATED:20260119T194732Z
LAST-MODIFIED:20260119T194732Z
UID:10000984-1778007600-1778013000@motorsport.scot
SUMMARY:Spectator Safety and Management
DESCRIPTION:This session focuses on the safe management of spectators at rally events. It covers recognising suitable and unsuitable viewing areas\, effective communication with spectators\, crowd control techniques\, and the responsibilities of marshals in helping to protect spectators\, competitors and officials while ensuring the event runs safely and smoothly. \nIt covers the content required in RY01C which is a Motorsport UK training module so counts towards grade maintenance or upgrade requirements for Motorsport UK licence holders on the Marshals’ Pathway.  \nOur webinars usually last for around 90 minutes and you’ll receive a certificate as evidence of attendance. \nRegister at https://us02web.zoom.us/webinar/register/WN_DQIWWVElQ9CI7RmHsUQOTQ \nShare this:
URL:https://motorsport.scot/event/spectator-safety-and-management-2/
LOCATION:Online (Zoom Webinar)
CATEGORIES:Training
END:VEVENT
END:VCALENDAR