BEGIN:VCALENDAR
VERSION:2.0
PRODID:-//Scottish Association of Motor Sports Clubs - ECPv6.0.13//NONSGML v1.0//EN
CALSCALE:GREGORIAN
METHOD:PUBLISH
X-ORIGINAL-URL:https://motorsport.scot
X-WR-CALDESC:Events for Scottish Association of Motor Sports Clubs
REFRESH-INTERVAL;VALUE=DURATION:PT1H
X-Robots-Tag:noindex
X-PUBLISHED-TTL:PT1H
BEGIN:VTIMEZONE
TZID:Europe/London
BEGIN:DAYLIGHT
TZOFFSETFROM:+0000
TZOFFSETTO:+0100
TZNAME:BST
DTSTART:20260329T010000
END:DAYLIGHT
BEGIN:STANDARD
TZOFFSETFROM:+0100
TZOFFSETTO:+0000
TZNAME:GMT
DTSTART:20261025T010000
END:STANDARD
END:VTIMEZONE
BEGIN:VEVENT
DTSTART;TZID=Europe/London:20260423T190000
DTEND;TZID=Europe/London:20260423T203000
DTSTAMP:20260420T183953
CREATED:20260116T220746Z
LAST-MODIFIED:20260121T093240Z
UID:10000958-1776970800-1776976200@motorsport.scot
SUMMARY:Safeguarding: Professional Responsibility in Operational Environments
DESCRIPTION:This session outlines safeguarding responsibilities for motorsport rescue crews and healthcare professionals. It covers recognising concerns\, responding appropriately to disclosures\, maintaining professional boundaries\, and following correct reporting and escalation pathways. \nThese online training sessions are primarily aimed at those involved in a first response role at incidents. \nEach session will last for around 90 minutes and you’ll receive a certificate as evidence of attendance. \nAttendance at these webinars counts towards that annual CPD commitment\, providing structured\, evidence-based learning that supports clinical and operational development. \nAs some of the seminars will be focused on the operational and medical issues with the response to the incidents\, the sessions are restricted to Motorsport UK licenced Medical\, Rescue and Recovery personnel in order to respect confidentiality. We appreciate that there are others who have an interest but given the nature of the discussion we do need to limit the attendance. Licence numbers will be verified before your registration is confirmed. \nRegister at https://us02web.zoom.us/webinar/register/WN_VSzKU5eORlGu_EHTewsQFg \nShare this:
URL:https://motorsport.scot/event/safeguarding-professional-responsibility-in-operational-environments/
LOCATION:Online (Zoom Webinar)
CATEGORIES:Training
END:VEVENT
END:VCALENDAR