BEGIN:VCALENDAR
VERSION:2.0
PRODID:-//Scottish Association of Motor Sports Clubs - ECPv6.0.13//NONSGML v1.0//EN
CALSCALE:GREGORIAN
METHOD:PUBLISH
X-WR-CALNAME:Scottish Association of Motor Sports Clubs
X-ORIGINAL-URL:https://motorsport.scot
X-WR-CALDESC:Events for Scottish Association of Motor Sports Clubs
REFRESH-INTERVAL;VALUE=DURATION:PT1H
X-Robots-Tag:noindex
X-PUBLISHED-TTL:PT1H
BEGIN:VTIMEZONE
TZID:Europe/London
BEGIN:DAYLIGHT
TZOFFSETFROM:+0000
TZOFFSETTO:+0100
TZNAME:BST
DTSTART:20260329T010000
END:DAYLIGHT
BEGIN:STANDARD
TZOFFSETFROM:+0100
TZOFFSETTO:+0000
TZNAME:GMT
DTSTART:20261025T010000
END:STANDARD
END:VTIMEZONE
BEGIN:VEVENT
DTSTART;TZID=Europe/London:20260225T190000
DTEND;TZID=Europe/London:20260225T203000
DTSTAMP:20260420T202010
CREATED:20260118T094212Z
LAST-MODIFIED:20260118T094212Z
UID:10000977-1772046000-1772051400@motorsport.scot
SUMMARY:Race Communication\, Light Signals and Flag Essentials
DESCRIPTION:This session introduces the core principles of effective communication with race control and fellow marshals\, including correct radio use and etiquette\, alongside the key lights signals and flags used to warn competitors and give clear instructions during a race. It covers the content required in RC01B and RC01C\, both of which are Motorsport UK training modules so count towards grade maintenance or upgrade requirements for Motorsport UK licence holders on the Marshals’ Pathway. \nOur webinars usually last for around 90 minutes and you’ll receive a certificate as evidence of attendance. \nRegister at https://us02web.zoom.us/webinar/register/WN_xLsOi0JbTtSfC98K51btKA \nShare this:
URL:https://motorsport.scot/event/race-communication-light-signals-and-flag-essentials/
LOCATION:Online (Zoom Webinar)
CATEGORIES:Training
END:VEVENT
END:VCALENDAR