BEGIN:VCALENDAR
VERSION:2.0
PRODID:-//Scottish Association of Motor Sports Clubs - ECPv6.0.13//NONSGML v1.0//EN
CALSCALE:GREGORIAN
METHOD:PUBLISH
X-ORIGINAL-URL:https://motorsport.scot
X-WR-CALDESC:Events for Scottish Association of Motor Sports Clubs
REFRESH-INTERVAL;VALUE=DURATION:PT1H
X-Robots-Tag:noindex
X-PUBLISHED-TTL:PT1H
BEGIN:VTIMEZONE
TZID:Europe/London
BEGIN:DAYLIGHT
TZOFFSETFROM:+0000
TZOFFSETTO:+0100
TZNAME:BST
DTSTART:20260329T010000
END:DAYLIGHT
BEGIN:STANDARD
TZOFFSETFROM:+0100
TZOFFSETTO:+0000
TZNAME:GMT
DTSTART:20261025T010000
END:STANDARD
END:VTIMEZONE
BEGIN:VEVENT
DTSTART;TZID=Europe/London:20260124T090000
DTEND;TZID=Europe/London:20260124T160000
DTSTAMP:20260420T233705
CREATED:20251218T184540Z
LAST-MODIFIED:20260105T164104Z
UID:10000760-1769245200-1769270400@motorsport.scot
SUMMARY:Rally Marshals Training
DESCRIPTION:Get ready for a full-throttle day behind the scenes of stage rallying! \nThe Scottish Association of Motor Sports Clubs\, Scottish Motorsport Marshals Club\, and Highland Car Club have organised an action-packed training day in preparation for the legendary Snowman Rally in February. \nRunning from 9am to 4pm\, the day will combine classroom sessions with hands-on outdoor stage rally training. Whether you are brand new or a seasoned marshal\, this is your chance to sharpen your skills and be part of what makes rallies happen. \nNew recruits will be fully prepped for their first rally season\, while experienced volunteers will refresh and advance their knowledge with the latest marshalling skills and Motorsport UK guidelines. It’s completely free to attend\, with coffee and lunch included. \nYou will spend the day learning from rally people\, working in real-world scenarios\, and gaining practical experience at the heart of motorsport. \nTraining modules include Stage Setup\, Advanced Timing\, Spectator Management\, and First on Scene response. \nAttendance counts towards grade maintenance or upgrade requirements for Motorsport UK licence holders on the Marshals’ Pathway\, making this an unmissable opportunity to get involved\, level up\, and fuel your rally passion. \nSign up at https://forms.gle/CeYKosEVZNaVeCUg7 \nShare this:
URL:https://motorsport.scot/event/rally-marshals-training-7/
LOCATION:Muir Hub and Cafe\, Great North Road\, Muir of Ord\, IV6 7SU
CATEGORIES:Stage Rally,Training
ATTACH;FMTTYPE=image/jpeg:https://motorsport.scot/wp-content/uploads/2023/11/IMG_0823.jpeg
GEO:57.51723;-4.45802
X-APPLE-STRUCTURED-LOCATION;VALUE=URI;X-ADDRESS=Muir Hub and Cafe Great North Road Muir of Ord IV6 7SU;X-APPLE-RADIUS=500;X-TITLE=Great North Road:geo:-4.45802,57.51723
END:VEVENT
END:VCALENDAR