BEGIN:VCALENDAR
VERSION:2.0
PRODID:-//Scottish Association of Motor Sports Clubs - ECPv6.0.13//NONSGML v1.0//EN
CALSCALE:GREGORIAN
METHOD:PUBLISH
X-WR-CALNAME:Scottish Association of Motor Sports Clubs
X-ORIGINAL-URL:https://motorsport.scot
X-WR-CALDESC:Events for Scottish Association of Motor Sports Clubs
REFRESH-INTERVAL;VALUE=DURATION:PT1H
X-Robots-Tag:noindex
X-PUBLISHED-TTL:PT1H
BEGIN:VTIMEZONE
TZID:Europe/London
BEGIN:DAYLIGHT
TZOFFSETFROM:+0000
TZOFFSETTO:+0100
TZNAME:BST
DTSTART:20260329T010000
END:DAYLIGHT
BEGIN:STANDARD
TZOFFSETFROM:+0100
TZOFFSETTO:+0000
TZNAME:GMT
DTSTART:20261025T010000
END:STANDARD
END:VTIMEZONE
BEGIN:VEVENT
DTSTART;TZID=Europe/London:20261103T190000
DTEND;TZID=Europe/London:20261103T203000
DTSTAMP:20260421T043905
CREATED:20260119T194409Z
LAST-MODIFIED:20260119T194409Z
UID:10000987-1793732400-1793737800@motorsport.scot
SUMMARY:Advanced Radio
DESCRIPTION:This session builds on core rally radio skills\, concentrating on clear\, accurate and timely communication in more demanding situations. It includes managing radio traffic\, relaying critical information\, and supporting effective coordination between stage teams and rally control. \nIt covers the content required in RY03D which is a Motorsport UK training module so counts towards grade maintenance or upgrade requirements for Motorsport UK licence holders on the Marshals’ Pathway.  \nOur webinars usually last for around 90 minutes and you’ll receive a certificate as evidence of attendance. \nRegister at https://us02web.zoom.us/webinar/register/WN_gSxnMDdDQWWsO3Bv5JxghA \nShare this:
URL:https://motorsport.scot/event/advanced-radio/
LOCATION:Online (Zoom Webinar)
CATEGORIES:Training
END:VEVENT
BEGIN:VEVENT
DTSTART;TZID=Europe/London:20261112T190000
DTEND;TZID=Europe/London:20261112T203000
DTSTAMP:20260421T043905
CREATED:20260116T215823Z
LAST-MODIFIED:20260121T093324Z
UID:10000972-1794510000-1794515400@motorsport.scot
SUMMARY:Motorsport Emergency Responder Webinar
DESCRIPTION:These online training sessions are primarily aimed at those involved in a first response role at incidents. \nEach session will last for around 90 minutes and you’ll receive a certificate as evidence of attendance. \nAttendance at these webinars counts towards that annual CPD commitment\, providing structured\, evidence-based learning that supports clinical and operational development. \nAs some of the seminars will be focused on the operational and medical issues with the response to the incidents\, the sessions are restricted to Motorsport UK licenced Medical\, Rescue and Recovery personnel in order to respect confidentiality. We appreciate that there are others who have an interest but given the nature of the discussion we do need to limit the attendance. Licence numbers will be verified before your registration is confirmed. \nRegister at https://us02web.zoom.us/webinar/register/WN_qKSCEF5JQZmngSvEfo5PTw \nShare this:
URL:https://motorsport.scot/event/motorsport-emergency-responder-webinar-nov1/
LOCATION:Online (Zoom Webinar)
CATEGORIES:Training
END:VEVENT
BEGIN:VEVENT
DTSTART;TZID=Europe/London:20261116T190000
DTEND;TZID=Europe/London:20261116T203000
DTSTAMP:20260421T043905
CREATED:20260116T215747Z
LAST-MODIFIED:20260121T093320Z
UID:10000973-1794855600-1794861000@motorsport.scot
SUMMARY:Motorsport Emergency Responder Webinar
DESCRIPTION:These online training sessions are primarily aimed at those involved in a first response role at incidents. \nEach session will last for around 90 minutes and you’ll receive a certificate as evidence of attendance. \nAttendance at these webinars counts towards that annual CPD commitment\, providing structured\, evidence-based learning that supports clinical and operational development. \nAs some of the seminars will be focused on the operational and medical issues with the response to the incidents\, the sessions are restricted to Motorsport UK licenced Medical\, Rescue and Recovery personnel in order to respect confidentiality. We appreciate that there are others who have an interest but given the nature of the discussion we do need to limit the attendance. Licence numbers will be verified before your registration is confirmed. \nRegister at https://us02web.zoom.us/webinar/register/WN_sMNFGTF0QUGa8weCvdC9Bg \nShare this:
URL:https://motorsport.scot/event/motorsport-emergency-responder-webinar-nov2/
LOCATION:Online (Zoom Webinar)
CATEGORIES:Training
END:VEVENT
END:VCALENDAR