BEGIN:VCALENDAR
VERSION:2.0
PRODID:-//Scottish Association of Motor Sports Clubs - ECPv6.0.13//NONSGML v1.0//EN
CALSCALE:GREGORIAN
METHOD:PUBLISH
X-WR-CALNAME:Scottish Association of Motor Sports Clubs
X-ORIGINAL-URL:https://motorsport.scot
X-WR-CALDESC:Events for Scottish Association of Motor Sports Clubs
REFRESH-INTERVAL;VALUE=DURATION:PT1H
X-Robots-Tag:noindex
X-PUBLISHED-TTL:PT1H
BEGIN:VTIMEZONE
TZID:Europe/London
BEGIN:DAYLIGHT
TZOFFSETFROM:+0000
TZOFFSETTO:+0100
TZNAME:BST
DTSTART:20260329T010000
END:DAYLIGHT
BEGIN:STANDARD
TZOFFSETFROM:+0100
TZOFFSETTO:+0000
TZNAME:GMT
DTSTART:20261025T010000
END:STANDARD
END:VTIMEZONE
BEGIN:VEVENT
DTSTART;TZID=Europe/London:20260602T190000
DTEND;TZID=Europe/London:20260602T203000
DTSTAMP:20260420T201632
CREATED:20260119T194551Z
LAST-MODIFIED:20260119T194551Z
UID:10000983-1780426800-1780432200@motorsport.scot
SUMMARY:Rally Communication\, Radio and Timing Essentials
DESCRIPTION:This webinar introduces the fundamentals of communication and timing within rally events. It covers effective communication principles\, the use of rally radio systems\, and the basics of rally timing\, helping marshals understand how accurate information and clear communication support the safe and efficient running of a rally. \nIt covers the content required in RY01B\, RY02C and RY02E\, all of which are Motorsport UK training modules so count towards grade maintenance or upgrade requirements for Motorsport UK licence holders on the Marshals’ Pathway.  \nOur webinars usually last for around 90 minutes and you’ll receive a certificate as evidence of attendance. \nRegister at https://us02web.zoom.us/webinar/register/WN_kpIX52ZYRLWRO_Ey08u0tQ \nShare this:
URL:https://motorsport.scot/event/rally-communication-radio-and-timing-essentials/
LOCATION:Online (Zoom Webinar)
CATEGORIES:Training
END:VEVENT
BEGIN:VEVENT
DTSTART;TZID=Europe/London:20260618T190000
DTEND;TZID=Europe/London:20260618T203000
DTSTAMP:20260420T201632
CREATED:20260116T220522Z
LAST-MODIFIED:20260121T093337Z
UID:10000962-1781809200-1781814600@motorsport.scot
SUMMARY:Working with Junior Competitors: Clinical and Safeguarding Considerations for Young Patients
DESCRIPTION:This session focuses on the additional responsibilities when caring for children and young people in motorsport. It covers age-specific assessment\, communication strategies\, consent issues\, and safeguarding considerations. \nThese online training sessions are primarily aimed at those involved in a first response role at incidents. \nEach session will last for around 90 minutes and you’ll receive a certificate as evidence of attendance. \nAttendance at these webinars counts towards that annual CPD commitment\, providing structured\, evidence-based learning that supports clinical and operational development. \nAs some of the seminars will be focused on the operational and medical issues with the response to the incidents\, the sessions are restricted to Motorsport UK licenced Medical\, Rescue and Recovery personnel in order to respect confidentiality. We appreciate that there are others who have an interest but given the nature of the discussion we do need to limit the attendance. Licence numbers will be verified before your registration is confirmed. \nRegister at https://us02web.zoom.us/webinar/register/WN_5vOXcylxS7yalurX47SRsg \nShare this:
URL:https://motorsport.scot/event/working-with-junior-competitors-clinical-and-safeguarding-considerations-for-young-patients/
LOCATION:Online (Zoom Webinar)
CATEGORIES:Training
END:VEVENT
BEGIN:VEVENT
DTSTART;TZID=Europe/London:20260622T190000
DTEND;TZID=Europe/London:20260622T203000
DTSTAMP:20260420T201632
CREATED:20260116T220438Z
LAST-MODIFIED:20260121T093342Z
UID:10000963-1782154800-1782160200@motorsport.scot
SUMMARY:Motorsport Emergency Responder Webinar
DESCRIPTION:These online training sessions are primarily aimed at those involved in a first response role at incidents. \nEach session will last for around 90 minutes and you’ll receive a certificate as evidence of attendance. \nAttendance at these webinars counts towards that annual CPD commitment\, providing structured\, evidence-based learning that supports clinical and operational development. \nAs some of the seminars will be focused on the operational and medical issues with the response to the incidents\, the sessions are restricted to Motorsport UK licenced Medical\, Rescue and Recovery personnel in order to respect confidentiality. We appreciate that there are others who have an interest but given the nature of the discussion we do need to limit the attendance. Licence numbers will be verified before your registration is confirmed. \nRegister at https://us02web.zoom.us/webinar/register/WN_ZnLvXmB6R8mfHIq6_UgI6A \nShare this:
URL:https://motorsport.scot/event/motorsport-emergency-responder-webinar-jun2/
LOCATION:Online (Zoom Webinar)
CATEGORIES:Training
END:VEVENT
END:VCALENDAR