BEGIN:VCALENDAR
VERSION:2.0
PRODID:-//Scottish Association of Motor Sports Clubs - ECPv6.0.13//NONSGML v1.0//EN
CALSCALE:GREGORIAN
METHOD:PUBLISH
X-WR-CALNAME:Scottish Association of Motor Sports Clubs
X-ORIGINAL-URL:https://motorsport.scot
X-WR-CALDESC:Events for Scottish Association of Motor Sports Clubs
REFRESH-INTERVAL;VALUE=DURATION:PT1H
X-Robots-Tag:noindex
X-PUBLISHED-TTL:PT1H
BEGIN:VTIMEZONE
TZID:Europe/London
BEGIN:DAYLIGHT
TZOFFSETFROM:+0000
TZOFFSETTO:+0100
TZNAME:BST
DTSTART:20260329T010000
END:DAYLIGHT
BEGIN:STANDARD
TZOFFSETFROM:+0100
TZOFFSETTO:+0000
TZNAME:GMT
DTSTART:20261025T010000
END:STANDARD
END:VTIMEZONE
BEGIN:VEVENT
DTSTART;TZID=Europe/London:20260203T190000
DTEND;TZID=Europe/London:20260203T203000
DTSTAMP:20260420T201713
CREATED:20260118T093836Z
LAST-MODIFIED:20260118T105205Z
UID:10000976-1770145200-1770150600@motorsport.scot
SUMMARY:Introduction to marshalling
DESCRIPTION:This webinar provides a broad introduction to marshalling across race\, speed\, off track and rally disciplines. It outlines the fundamental roles\, responsibilities and key tasks of marshals at circuit racing events\, speed events such as hill climbs and sprints\, off track areas including startlines\, paddocks and assemblies\, and rally stages\, giving a clear overview of how marshalling supports the safe and effective running of motorsport events. \nIt covers the content required in RC01A\, OT01A\, RY01A\, SP01A\, and SP01C\, all of which are Motorsport UK training modules so count towards grade maintenance or upgrade requirements for Motorsport UK licence holders on the Marshals’ Pathway.  \nOur webinars usually last for around 90 minutes and you’ll receive a certificate as evidence of attendance. \nRegister at https://us02web.zoom.us/webinar/register/WN_9sLC29JUT4K7JiNxUmUhsQ \nShare this:
URL:https://motorsport.scot/event/introduction-to-marshalling/
LOCATION:Online (Zoom Webinar)
CATEGORIES:Training
END:VEVENT
BEGIN:VEVENT
DTSTART;TZID=Europe/London:20260208T093000
DTEND;TZID=Europe/London:20260208T123000
DTSTAMP:20260420T201713
CREATED:20260119T191309Z
LAST-MODIFIED:20260119T191749Z
UID:10000992-1770543000-1770553800@motorsport.scot
SUMMARY:Training: Fire Practical - GE01B
DESCRIPTION:This is a great opportunity for anyone looking to build or refresh practical skills. This hands-on session will help you gain the knowledge and confidence to deal with a fire in a motorsport setting and take effective action until rescue and medical teams arrive. \nThis is an official Motorsport UK training module\, recognised for grade maintenance and upgrade for all Motorsport UK licence holders. It is a mandatory module for every level on the Marshals’ Development Pathway. \nYou MUST have done the Fire Theory module (GE01A) before attending this course. \nPlease register at https://forms.gle/MJ5HTyYpWv13d4aTA \nShare this:
URL:https://motorsport.scot/event/training-fire-practical-ge01b-2026-1/
LOCATION:Knockhill Racing Circuit\, Dunfermline\, Fife\, KY12 9TF
CATEGORIES:Training
ATTACH;FMTTYPE=image/jpeg:https://motorsport.scot/wp-content/uploads/2023/11/fire.jpg
GEO:56.13146;-3.50895
END:VEVENT
BEGIN:VEVENT
DTSTART;TZID=Europe/London:20260208T133000
DTEND;TZID=Europe/London:20260208T163000
DTSTAMP:20260420T201713
CREATED:20260119T191423Z
LAST-MODIFIED:20260119T191818Z
UID:10000993-1770557400-1770568200@motorsport.scot
SUMMARY:Training: Fire Practical - GE01B
DESCRIPTION:This is a great opportunity for anyone looking to build or refresh practical skills. This hands-on session will help you gain the knowledge and confidence to deal with a fire in a motorsport setting and take effective action until rescue and medical teams arrive. \nThis is an official Motorsport UK training module\, recognised for grade maintenance and upgrade for all Motorsport UK licence holders. It is a mandatory module for every level on the Marshals’ Development Pathway. \nYou MUST have done the Fire Theory module (GE01A) before attending this course. \nPlease register at https://forms.gle/MJ5HTyYpWv13d4aTA \nShare this:
URL:https://motorsport.scot/event/training-fire-practical-ge01b-2026-2/
LOCATION:Knockhill Racing Circuit\, Dunfermline\, Fife\, KY12 9TF
CATEGORIES:Training
ATTACH;FMTTYPE=image/jpeg:https://motorsport.scot/wp-content/uploads/2023/11/fire.jpg
GEO:56.13146;-3.50895
END:VEVENT
BEGIN:VEVENT
DTSTART;TZID=Europe/London:20260219T190000
DTEND;TZID=Europe/London:20260219T203000
DTSTAMP:20260420T201713
CREATED:20260116T220948Z
LAST-MODIFIED:20260121T093220Z
UID:10000954-1771527600-1771533000@motorsport.scot
SUMMARY:Working with Helimed: Integrating Ground and Air Medical Response
DESCRIPTION:An in depth look at how ground-based responders and air ambulance teams work together. The session covers scene preparation\, safe landing site considerations\, structured communication\, and effective clinical handover to ensure seamless patient care from trackside to aircraft. \nThese online training sessions are primarily aimed at those involved in a first response role at incidents. \nEach session will last for around 90 minutes and you’ll receive a certificate as evidence of attendance. \nAttendance at these webinars counts towards that annual CPD commitment\, providing structured\, evidence-based learning that supports clinical and operational development. \nAs some of the seminars will be focused on the operational and medical issues with the response to the incidents\, the sessions are restricted to Motorsport UK licenced Medical\, Rescue and Recovery personnel in order to respect confidentiality. We appreciate that there are others who have an interest but given the nature of the discussion we do need to limit the attendance. Licence numbers will be verified before your registration is confirmed. \nRegister at https://us02web.zoom.us/webinar/register/WN_HQor7nKUTYalKTRXh7Spkw \nShare this:
URL:https://motorsport.scot/event/working-with-helimed-integrating-ground-and-air-medical-response/
LOCATION:Online (Zoom Webinar)
CATEGORIES:Training
END:VEVENT
BEGIN:VEVENT
DTSTART;TZID=Europe/London:20260223T190000
DTEND;TZID=Europe/London:20260223T203000
DTSTAMP:20260420T201713
CREATED:20260116T220918Z
LAST-MODIFIED:20260121T093225Z
UID:10000955-1771873200-1771878600@motorsport.scot
SUMMARY:Motorsport UK Event Operations: Operational Frameworks for Motorsport Rescue and Medical Teams
DESCRIPTION:An overview of how Motorsport UK events are structured operationally. The session covers roles\, responsibilities\, governance\, and expectations for rescue and medical personnel working within motorsport environments. \nThese online training sessions are primarily aimed at those involved in a first response role at incidents. \nEach session will last for around 90 minutes and you’ll receive a certificate as evidence of attendance. \nAttendance at these webinars counts towards that annual CPD commitment\, providing structured\, evidence-based learning that supports clinical and operational development. \nAs some of the seminars will be focused on the operational and medical issues with the response to the incidents\, the sessions are restricted to Motorsport UK licenced Medical\, Rescue and Recovery personnel in order to respect confidentiality. We appreciate that there are others who have an interest but given the nature of the discussion we do need to limit the attendance. Licence numbers will be verified before your registration is confirmed. \nRegister at https://us02web.zoom.us/webinar/register/WN_je9Qn-evQKqPtw48Wlzt-A \nShare this:
URL:https://motorsport.scot/event/motorsport-uk-event-operations-operational-frameworks-for-motorsport-rescue-and-medical-teams/
LOCATION:Online (Zoom Webinar)
CATEGORIES:Training
END:VEVENT
BEGIN:VEVENT
DTSTART;TZID=Europe/London:20260225T190000
DTEND;TZID=Europe/London:20260225T203000
DTSTAMP:20260420T201713
CREATED:20260118T094212Z
LAST-MODIFIED:20260118T094212Z
UID:10000977-1772046000-1772051400@motorsport.scot
SUMMARY:Race Communication\, Light Signals and Flag Essentials
DESCRIPTION:This session introduces the core principles of effective communication with race control and fellow marshals\, including correct radio use and etiquette\, alongside the key lights signals and flags used to warn competitors and give clear instructions during a race. It covers the content required in RC01B and RC01C\, both of which are Motorsport UK training modules so count towards grade maintenance or upgrade requirements for Motorsport UK licence holders on the Marshals’ Pathway. \nOur webinars usually last for around 90 minutes and you’ll receive a certificate as evidence of attendance. \nRegister at https://us02web.zoom.us/webinar/register/WN_xLsOi0JbTtSfC98K51btKA \nShare this:
URL:https://motorsport.scot/event/race-communication-light-signals-and-flag-essentials/
LOCATION:Online (Zoom Webinar)
CATEGORIES:Training
END:VEVENT
BEGIN:VEVENT
DTSTART;TZID=Europe/London:20260228T080000
DTEND;TZID=Europe/London:20260228T160000
DTSTAMP:20260420T201713
CREATED:20260105T161442Z
LAST-MODIFIED:20260105T161442Z
UID:10000911-1772265600-1772294400@motorsport.scot
SUMMARY:Race Marshals Training
DESCRIPTION:This training day\, organised by the Scottish Motor Racing Club\, is suitable for both new and experienced race marshals and will involve both classroom and practical workshops. \nFor newcomers\, it is an opportunity to get an induction into race marshalling\, whilst more experienced marshals will have the opportunity to refresh their knowledge on a variety of subjects and/or learn about new topics. \nAttendance counts towards grade maintenance or upgrade requirements for Motorsport UK licence holders on the Marshals’ Pathway. \nEmail chiefmarshal@smrc.co.uk for information. \nShare this:
URL:https://motorsport.scot/event/smrc-race-marshals-training-2026/
LOCATION:Knockhill Racing Circuit\, Dunfermline\, Fife\, KY12 9TF
CATEGORIES:Circuit Racing,Training
ATTACH;FMTTYPE=image/jpeg:https://motorsport.scot/wp-content/uploads/2023/11/IMG_9733-e1700065823185.jpeg
GEO:56.13146;-3.50895
END:VEVENT
END:VCALENDAR