BEGIN:VCALENDAR
VERSION:2.0
PRODID:-//Scottish Association of Motor Sports Clubs - ECPv6.0.13//NONSGML v1.0//EN
CALSCALE:GREGORIAN
METHOD:PUBLISH
X-ORIGINAL-URL:https://motorsport.scot
X-WR-CALDESC:Events for Scottish Association of Motor Sports Clubs
REFRESH-INTERVAL;VALUE=DURATION:PT1H
X-Robots-Tag:noindex
X-PUBLISHED-TTL:PT1H
BEGIN:VTIMEZONE
TZID:Europe/London
BEGIN:DAYLIGHT
TZOFFSETFROM:+0000
TZOFFSETTO:+0100
TZNAME:BST
DTSTART:20260329T010000
END:DAYLIGHT
BEGIN:STANDARD
TZOFFSETFROM:+0100
TZOFFSETTO:+0000
TZNAME:GMT
DTSTART:20261025T010000
END:STANDARD
END:VTIMEZONE
BEGIN:VEVENT
DTSTART;VALUE=DATE:20260516
DTEND;VALUE=DATE:20260518
DTSTAMP:20260421T110924
CREATED:20260102T114949Z
LAST-MODIFIED:20260102T120007Z
UID:10000815-1778889600-1779062399@motorsport.scot
SUMMARY:Champions of Scottish Car Racing
DESCRIPTION:Round 2 fires into action with a weekend packed full of racing\, noise\, and nostalgia! Enjoy a thrilling mix of championship battles and retro racing moments as we celebrate five decades of Scottish Car Racing. \nThe weekend features top competition from the KMSC Championships\, including Scottish Legends\, Super Lap Scotland\, and Scottish Modsports\, joined by the Scottish Sports & Saloons and Historic Modsports & Special Saloon Series. \nSaturday welcomes visiting action from the Fiesta ST Cup and C1 Cup\, before Sunday turns back the clock with historic demonstrations of iconic open- and closed-wheel Scottish racing cars from across the eras. \nPlus\, the always-popular Karting Legends return for the full weekend — both on track and in the paddock. A fantastic mix of speed\, history\, and spectacle for every racing fan! \nShare this:
URL:https://motorsport.scot/event/scottish-championship-car-racing-round-2-2026/
LOCATION:Knockhill Racing Circuit\, Dunfermline\, Fife\, KY12 9TF
CATEGORIES:Race
GEO:56.13146;-3.50895
END:VEVENT
END:VCALENDAR