BEGIN:VCALENDAR
VERSION:2.0
PRODID:-//Scottish Association of Motor Sports Clubs - ECPv6.0.13//NONSGML v1.0//EN
CALSCALE:GREGORIAN
METHOD:PUBLISH
X-ORIGINAL-URL:https://motorsport.scot
X-WR-CALDESC:Events for Scottish Association of Motor Sports Clubs
REFRESH-INTERVAL;VALUE=DURATION:PT1H
X-Robots-Tag:noindex
X-PUBLISHED-TTL:PT1H
BEGIN:VTIMEZONE
TZID:Europe/London
BEGIN:DAYLIGHT
TZOFFSETFROM:+0000
TZOFFSETTO:+0100
TZNAME:BST
DTSTART:20260329T010000
END:DAYLIGHT
BEGIN:STANDARD
TZOFFSETFROM:+0100
TZOFFSETTO:+0000
TZNAME:GMT
DTSTART:20261025T010000
END:STANDARD
END:VTIMEZONE
BEGIN:VEVENT
DTSTART;VALUE=DATE:20261010
DTEND;VALUE=DATE:20261012
DTSTAMP:20260423T135447
CREATED:20260102T114203Z
LAST-MODIFIED:20260102T115920Z
UID:10000884-1791590400-1791763199@motorsport.scot
SUMMARY:Scottish Championship Car Racing - Final Round
DESCRIPTION:Get ready for the grand finale of the 2026 Scottish motorsport season! The Knockhill Motor Sports Club and SMRC proudly present the Best of Scottish Club Racing event\, featuring Scottish Legends\, Mod-Sports\, and all the SMRC championships. Adding to the excitement\, the Global GT Lights will also be in attendance\, bringing their compact\, motorcycle-engined prototype-style racers for some seriously quick and agile action! \nWith another Best Of Scottish themed event\, both days running in clockwise direction\, this event also brings the SMRC Championships to life\, including the Scottish Mini Cooper Cup\, Fiesta ST Cup\, C1 Cup\, and Classic Sports and Saloon Championship that join us for the Sunday Only. \nDon’t miss a weekend of high-speed action and unforgettable racing excitement! \nShare this:
URL:https://motorsport.scot/event/scottish-championship-car-racing-final-round-2026/
LOCATION:Knockhill Racing Circuit\, Dunfermline\, Fife\, KY12 9TF
CATEGORIES:Race
GEO:56.13146;-3.50895
END:VEVENT
END:VCALENDAR