BEGIN:VCALENDAR
VERSION:2.0
PRODID:-//Scottish Association of Motor Sports Clubs - ECPv6.0.13//NONSGML v1.0//EN
CALSCALE:GREGORIAN
METHOD:PUBLISH
X-WR-CALNAME:Scottish Association of Motor Sports Clubs
X-ORIGINAL-URL:https://motorsport.scot
X-WR-CALDESC:Events for Scottish Association of Motor Sports Clubs
REFRESH-INTERVAL;VALUE=DURATION:PT1H
X-Robots-Tag:noindex
X-PUBLISHED-TTL:PT1H
BEGIN:VTIMEZONE
TZID:Europe/London
BEGIN:DAYLIGHT
TZOFFSETFROM:+0000
TZOFFSETTO:+0100
TZNAME:BST
DTSTART:20260329T010000
END:DAYLIGHT
BEGIN:STANDARD
TZOFFSETFROM:+0100
TZOFFSETTO:+0000
TZNAME:GMT
DTSTART:20261025T010000
END:STANDARD
END:VTIMEZONE
BEGIN:VEVENT
DTSTART;VALUE=DATE:20260808
DTEND;VALUE=DATE:20260810
DTSTAMP:20260421T123953
CREATED:20260102T085253Z
LAST-MODIFIED:20260102T120444Z
UID:10000850-1786147200-1786319999@motorsport.scot
SUMMARY:British Touring Car Championship
DESCRIPTION:Whether you’re new to the BTCC or a lifelong fan\, the 2026 season promises non-stop thrills at Knockhill! Across an action-packed weekend\, you’ll witness edge-of-your-seat racing as the stars of the BTCC battle it out around Scotland’s National Motor Sport Centre. \nNew for 2026\, Saturday features an exciting BTCC Qualifying Race\, adding even more intensity to the fight for grid positions ahead of Sunday’s main programme. With practice\, qualifying\, and competitive racing across multiple support championships\, there’s non-stop track action from morning to evening. \nOff the track\, there’s something for everyone. Enjoy weekend camping\, meet your favourite BTCC drivers during autograph sessions\, take on friends and family with exhilarating arrive-and-drive karting\, and browse top motorsport merchandise from leading retailers. \nShare this:
URL:https://motorsport.scot/event/british-touring-car-championship-knockhill-2026/
LOCATION:Knockhill Racing Circuit\, Dunfermline\, Fife\, KY12 9TF
CATEGORIES:Race
GEO:56.13146;-3.50895
END:VEVENT
BEGIN:VEVENT
DTSTART;VALUE=DATE:20260815
DTEND;VALUE=DATE:20260817
DTSTAMP:20260421T123953
CREATED:20260102T114707Z
LAST-MODIFIED:20260102T115952Z
UID:10000853-1786752000-1786924799@motorsport.scot
SUMMARY:Caterham Racing Festival
DESCRIPTION:Get ready for wheel-to-wheel action as the Caterham Championship roars back to Knockhill on 15th & 16th August 2026! With up to 150 drivers taking on the twists\, dips\, and undulations of Scotland’s most thrilling circuit\, this is set to be a weekend of non-stop adrenaline and high-octane excitement. \nThese nimble\, lightweight racers are built for precision\, delivering close\, intense\, and fiercely competitive racing that keeps fans on the edge of their seats. With a grid made entirely of Caterhams\, expect battles inch apart\, daring overtakes\, and spectacular track action — a must-see for motorsport enthusiasts of all ages! \nAlso on the weekend\, don’t miss our Scottish Modsports Championship. Saturday features the exciting Scottish MINI Cooper Cup\, while Sunday welcomes back the thrilling Scottish C1 Cup. \nShare this:
URL:https://motorsport.scot/event/caterham-racing-festival/
LOCATION:Knockhill Racing Circuit\, Dunfermline\, Fife\, KY12 9TF
CATEGORIES:Race
GEO:56.13146;-3.50895
END:VEVENT
BEGIN:VEVENT
DTSTART;VALUE=DATE:20260822
DTEND;VALUE=DATE:20260824
DTSTAMP:20260421T123953
CREATED:20260102T113603Z
LAST-MODIFIED:20260102T115939Z
UID:10000858-1787356800-1787529599@motorsport.scot
SUMMARY:SMRC Race Meeting
DESCRIPTION:Event: Battle of Britain\nClasses: Historic Modsports & Special Saloons Series\, Classics \nShare this:
URL:https://motorsport.scot/event/smrc-croft-2026-2/
LOCATION:Croft Circuit\, West Lane\, Dalton On Tees\, North Yorkshire\, DL2 2PL\, United Kingdom
CATEGORIES:Race
END:VEVENT
BEGIN:VEVENT
DTSTART;VALUE=DATE:20260829
DTEND;VALUE=DATE:20260830
DTSTAMP:20260421T123953
CREATED:20260102T113715Z
LAST-MODIFIED:20260102T115939Z
UID:10000860-1787961600-1788047999@motorsport.scot
SUMMARY:SMRC Race Meeting
DESCRIPTION:Event: Away Round – National Circuit\nClasses: MINI \nShare this:
URL:https://motorsport.scot/event/smrc-donington-2026-1/
LOCATION:Donington Park Circuit\, Castle Donington\, Derby\, DE74 2BN\, United Kingdom
CATEGORIES:Race
END:VEVENT
END:VCALENDAR