BEGIN:VCALENDAR
VERSION:2.0
PRODID:-//Scottish Association of Motor Sports Clubs - ECPv6.0.13//NONSGML v1.0//EN
CALSCALE:GREGORIAN
METHOD:PUBLISH
X-ORIGINAL-URL:https://motorsport.scot
X-WR-CALDESC:Events for Scottish Association of Motor Sports Clubs
REFRESH-INTERVAL;VALUE=DURATION:PT1H
X-Robots-Tag:noindex
X-PUBLISHED-TTL:PT1H
BEGIN:VTIMEZONE
TZID:Europe/London
BEGIN:DAYLIGHT
TZOFFSETFROM:+0000
TZOFFSETTO:+0100
TZNAME:BST
DTSTART:20260329T010000
END:DAYLIGHT
BEGIN:STANDARD
TZOFFSETFROM:+0100
TZOFFSETTO:+0000
TZNAME:GMT
DTSTART:20261025T010000
END:STANDARD
END:VTIMEZONE
BEGIN:VEVENT
DTSTART;VALUE=DATE:20260704
DTEND;VALUE=DATE:20260706
DTSTAMP:20260421T110557
CREATED:20260102T113405Z
LAST-MODIFIED:20260102T120006Z
UID:10000832-1783123200-1783295999@motorsport.scot
SUMMARY:SMRC Race Meeting
DESCRIPTION:Event: Thruxton Retro\nClasses: Historic Modsports & Special Saloons Series\, Classics \nShare this:
URL:https://motorsport.scot/event/smrc-thruxton-2026-1/
LOCATION:Thruxton Circuit\, Andover\, Hampshire\, SP11 8PN\, United Kingdom
CATEGORIES:Race
END:VEVENT
BEGIN:VEVENT
DTSTART;VALUE=DATE:20260711
DTEND;VALUE=DATE:20260713
DTSTAMP:20260421T110557
CREATED:20260102T114831Z
LAST-MODIFIED:20260102T115952Z
UID:10000836-1783728000-1783900799@motorsport.scot
SUMMARY:Scottish Championship Car Racing - Round 3
DESCRIPTION:The summer racing season is in full swing as Round 3 of the Scottish Championship Car Racing series takes over Knockhill. Get set for another weekend of fierce competition\, fast cars\, and non-stop action as Scotland’s top drivers go wheel-to-wheel for valuable championship points. \nJoining the grid for this mid-season showdown are visiting rounds from the British Superkart Championship\, Classic 2CV Racing Championship\, the DDMC Northern Saloon & Sports Car Championship\, and SEAT Supercup Ireland — adding even more variety and excitement to an already packed schedule. \nThis event also features the Gerard McCosh Race\, continuing the legacy of the Gerard McCosh Trophy Meeting for the Legends Championship. \nWith multiple races across both days\, expect thrilling battles\, tight overtakes\, and high-octane racing from lights to flag. From modern saloons to classic machines\, there’s something for every motorsport fan to enjoy! \nCome and experience the sights\, sounds\, and atmosphere of Scottish championship racing at its summer best — fast\, competitive\, and full of Knockhill energy! \nShare this:
URL:https://motorsport.scot/event/scottish-championship-car-racing-round-3-2026/
LOCATION:Knockhill Racing Circuit\, Dunfermline\, Fife\, KY12 9TF
CATEGORIES:Race
GEO:56.13146;-3.50895
END:VEVENT
BEGIN:VEVENT
DTSTART;VALUE=DATE:20260725
DTEND;VALUE=DATE:20260726
DTSTAMP:20260421T110557
CREATED:20260102T113507Z
LAST-MODIFIED:20260102T115952Z
UID:10000842-1784937600-1785023999@motorsport.scot
SUMMARY:SMRC Race Meeting
DESCRIPTION:Event: Away Round\nClasses: Fiesta ST \nShare this:
URL:https://motorsport.scot/event/smrc-kirkistown-2026-2/
LOCATION:Kirkistown Racing Circuit\, 130 Rubane Road\, Kircubbin\, Co. Down\, BT22 1AU\, United Kingdom
CATEGORIES:Race
END:VEVENT
END:VCALENDAR