BEGIN:VCALENDAR
VERSION:2.0
PRODID:-//Scottish Association of Motor Sports Clubs - ECPv6.0.13//NONSGML v1.0//EN
CALSCALE:GREGORIAN
METHOD:PUBLISH
X-WR-CALNAME:Scottish Association of Motor Sports Clubs
X-ORIGINAL-URL:https://motorsport.scot
X-WR-CALDESC:Events for Scottish Association of Motor Sports Clubs
REFRESH-INTERVAL;VALUE=DURATION:PT1H
X-Robots-Tag:noindex
X-PUBLISHED-TTL:PT1H
BEGIN:VTIMEZONE
TZID:Europe/London
BEGIN:DAYLIGHT
TZOFFSETFROM:+0000
TZOFFSETTO:+0100
TZNAME:BST
DTSTART:20260329T010000
END:DAYLIGHT
BEGIN:STANDARD
TZOFFSETFROM:+0100
TZOFFSETTO:+0000
TZNAME:GMT
DTSTART:20261025T010000
END:STANDARD
END:VTIMEZONE
BEGIN:VEVENT
DTSTART;VALUE=DATE:20260418
DTEND;VALUE=DATE:20260420
DTSTAMP:20260419T094826
CREATED:20260102T105022Z
LAST-MODIFIED:20260102T120024Z
UID:10000799-1776470400-1776643199@motorsport.scot
SUMMARY:Doune Hillclimb
DESCRIPTION:Share this:
URL:https://motorsport.scot/event/doune-hillclimb-2026-1/
LOCATION:Doune Hillclimb\, Buchany\, Doune\, FK16 6HG\, United Kingdom
CATEGORIES:Hill Climb
GEO:56.1995548;-4.0730203
END:VEVENT
BEGIN:VEVENT
DTSTART;VALUE=DATE:20260418
DTEND;VALUE=DATE:20260420
DTSTAMP:20260419T094826
CREATED:20260102T115144Z
LAST-MODIFIED:20260102T120024Z
UID:10000800-1776470400-1776643199@motorsport.scot
SUMMARY:Scottish Championship Car Racing - Round 1
DESCRIPTION:The 2026 Scottish Championship Car Racing season roars into action with an epic weekend at Knockhill — running anti-clockwise on both days for an added twist! This unique format promises non-stop excitement\, as drivers tackle the challenging reverse direction across two days of bumper racing action. \nFans can look forward to a thrilling mix of races featuring the very best from the KMSC and SMRC Championships\, including Scottish Legends\, Scottish Modsports\, and the Super Lap Scotland series. Joining the line-up on both days are the DDMC Northern Saloons and Sports Cars\, bringing their trademark speed\, colour\, and spectacle to the track. \nSunday sees the Scottish Fiesta ST Cup and the ever-competitive C1 Cup take centre stage for some high-speed drama. \nOff-track\, there’s even more to enjoy with Mini Mania on Saturday — a fantastic Mini-themed car show featuring some of the best Minis around\, special awards\, and an exclusive track parade for show car entrants. \nWhether you’re a motorsport enthusiast\, car club member\, or looking for a great family day out\, this anti-clockwise season opener delivers thrilling racing\, show-stopping cars\, and unforgettable entertainment for everyone. \nIn addition to the racing\, this event will celebrate and honour the dedicated Armed Forces\, NHS\, and Blue Light personnel\, offering them free entry for the weekend with valid ID. On Sunday\, the Forces will host a variety of stands\, adding a special touch to the event and providing an opportunity for all to show their appreciation for these essential services. \nShare this:
URL:https://motorsport.scot/event/scottish-championship-car-racing-round-1-2/
LOCATION:Knockhill Racing Circuit\, Dunfermline\, Fife\, KY12 9TF
CATEGORIES:Race
GEO:56.13146;-3.50895
END:VEVENT
BEGIN:VEVENT
DTSTART;VALUE=DATE:20260419
DTEND;VALUE=DATE:20260420
DTSTAMP:20260419T094826
CREATED:20260102T102226Z
LAST-MODIFIED:20260102T102226Z
UID:10000803-1776556800-1776643199@motorsport.scot
SUMMARY:RTV Trial & Speed Event
DESCRIPTION:Share this:
URL:https://motorsport.scot/event/rtv-trial-speed-event/
LOCATION:North Lanarkshire
CATEGORIES:Trial
END:VEVENT
BEGIN:VEVENT
DTSTART;VALUE=DATE:20260419
DTEND;VALUE=DATE:20260420
DTSTAMP:20260419T094826
CREATED:20260112T171636Z
LAST-MODIFIED:20260112T171636Z
UID:10000927-1776556800-1776643199@motorsport.scot
SUMMARY:CCVT / Tyro
DESCRIPTION:Share this:
URL:https://motorsport.scot/event/ccvt-tyro-4/
LOCATION:North Lanarkshire
CATEGORIES:CCVT,Tyro
ORGANIZER;CN="Buchan%20Off%20Road%20Drivers%20Club":MAILTO:info@bordc.co.uk
END:VEVENT
END:VCALENDAR